BEGIN:VCALENDAR
VERSION:2.0
PRODID:-//wp-events-plugin.com//7.2.3.1//EN
TZID:Europe/Berlin
X-WR-TIMEZONE:Europe/Berlin
BEGIN:VEVENT
UID:34@bew-telekom-ravensburg.de
DTSTART;TZID=Europe/Berlin:20260324T083000
DTEND;TZID=Europe/Berlin:20260324T183000
DTSTAMP:20260306T085152Z
URL:https://bew-telekom-ravensburg.de/events/tagesausflug-katzbrui-muehle-
 und-abt-rennsprot/
SUMMARY:Tagesausflug Katzbrui-Mühle und Abt-Rennsport
DESCRIPTION:Tagesausflug ins Allgäu nach Apfeltrach zur Katzbrui-Mühle un
 d Abt Rennsport Automuseum in Kempten \n\nPreis zwischen 24\,00 – 28\,00
  € je nach Teilnehmerzahl inkl. Mühlenführung und Museum\nAnmeldezeitr
 aum: 2. bis 6. März 2026\n\nDie Katzbrui-Mühle ist eine bäuerliche Getr
 eidemühle aus dem 17. Jahrhundert. Schon um 1900 galt sie als bedeutendes
  Zeugnis ländlich-bäuerlicher Baukultur.\nNach der Art\, wie die Mühle 
 gebaut ist\, spricht man von einem "Ständerbohlenbau". Wie das Mühlengeb
 äude ist auch das Dach aus Holz. Es ist ein "Legschindeldach"\, das mit S
 teinen beschwert ist. Heute gilt die Katzbrui-Mühle als das einzige erhal
 tene Gebäude dieser Art im bayerischen Alpenvorland. Das Museum soll dem 
 Besucher einen möglichst vollständigen und interessanten Einblick in die
  Lebens- und Arbeitsverhältnisse der Mühlenbewohner um die Jahrhundertwe
 nde geben\n\nAnschließend Mittagessen in der Gaststube "Alte Mühle". (Se
 lbstzahler)\n\nDanach Fahrt nach Kempten zum Abt Rennsport Automuseum\, um
  ca. 13:15 Uhr\n\nFolgen Sie die Motorsportvergangenheit diesen Fahrzeugen
  und Erfolgen ganz nah. Die Ausstellungsstücke sind echte Zeitzeugen und
  echte Titelgewinner wie das Siegerfahrzeug von Mattias Ekström. So auch 
 das Rennauto von Ralf Schumacher\, der bei ABT seine ersten Schritte im Fo
 rmel-Sport machte. Beginnen Sie Ihren Rundgang bei den DKW-Motorrädern - 
 denn außer Daniel Abt begannen alle Rennfahrer der Abt-Familie ihre Rennk
 arrieren im Motorradsport.\n\nAls nächstes fahren wir in die Stadtmitte v
 on Kempten\, nahe der Fußgängerzone.\nFreizeit zum Kaffee trinken\, Alts
 tadt besichtigen\, Einkaufen\, was euch an diesem Nachmittag noch gefällt
 .\n\nRückfahrt: 17:00 Uhr\, Ankunft in Ravensburg gegen 18:30 Uhr
ATTACH;FMTTYPE=image/jpeg:https://bew-telekom-ravensburg.de/wp-content/upl
 oads/2025/12/Katzbrui.jpg
CATEGORIES:Busreisen
LOCATION:Festplatz Weingarten\, Abt-Hyller-Str.\, Weingarten\, BaWü\, 8825
 0\, Deutschland
X-APPLE-STRUCTURED-LOCATION;VALUE=URI;X-ADDRESS=Abt-Hyller-Str.\, Weingarte
 n\, BaWü\, 88250\, Deutschland;X-APPLE-RADIUS=100;X-TITLE=Festplatz Weing
 arten:geo:0,0
END:VEVENT
BEGIN:VTIMEZONE
TZID:Europe/Berlin
X-LIC-LOCATION:Europe/Berlin
BEGIN:STANDARD
DTSTART:20251026T020000
TZOFFSETFROM:+0200
TZOFFSETTO:+0100
TZNAME:CET
END:STANDARD
END:VTIMEZONE
END:VCALENDAR