BEGIN:VCALENDAR
VERSION:2.0
PRODID:-//wp-events-plugin.com//7.2.3.1//EN
TZID:Europe/Berlin
X-WR-TIMEZONE:Europe/Berlin
BEGIN:VEVENT
UID:48@bew-telekom-ravensburg.de
DTSTART;TZID=Europe/Berlin:20261112T110000
DTEND;TZID=Europe/Berlin:20261112T180000
DTSTAMP:20260220T171557Z
URL:https://bew-telekom-ravensburg.de/events/wanderung-auf-die-siggener-ho
 ehe/
SUMMARY:Wanderung auf die Siggener Höhe
DESCRIPTION:Details zur Wanderung werden in Kürze nachgereicht.
CATEGORIES:Wanderung
END:VEVENT
BEGIN:VTIMEZONE
TZID:Europe/Berlin
X-LIC-LOCATION:Europe/Berlin
BEGIN:STANDARD
DTSTART:20261025T020000
TZOFFSETFROM:+0200
TZOFFSETTO:+0100
TZNAME:CET
END:STANDARD
END:VTIMEZONE
END:VCALENDAR